BEGIN:VCALENDAR
VERSION:2.0
PRODID:-//Feather Glass Wine Bar - ECPv6.15.13//NONSGML v1.0//EN
CALSCALE:GREGORIAN
METHOD:PUBLISH
X-ORIGINAL-URL:https://featherglasswine.com
X-WR-CALDESC:Events for Feather Glass Wine Bar
REFRESH-INTERVAL;VALUE=DURATION:PT1H
X-Robots-Tag:noindex
X-PUBLISHED-TTL:PT1H
BEGIN:VTIMEZONE
TZID:America/Chicago
BEGIN:DAYLIGHT
TZOFFSETFROM:-0600
TZOFFSETTO:-0500
TZNAME:CDT
DTSTART:20240310T080000
END:DAYLIGHT
BEGIN:STANDARD
TZOFFSETFROM:-0500
TZOFFSETTO:-0600
TZNAME:CST
DTSTART:20241103T070000
END:STANDARD
BEGIN:DAYLIGHT
TZOFFSETFROM:-0600
TZOFFSETTO:-0500
TZNAME:CDT
DTSTART:20250309T080000
END:DAYLIGHT
BEGIN:STANDARD
TZOFFSETFROM:-0500
TZOFFSETTO:-0600
TZNAME:CST
DTSTART:20251102T070000
END:STANDARD
BEGIN:DAYLIGHT
TZOFFSETFROM:-0600
TZOFFSETTO:-0500
TZNAME:CDT
DTSTART:20260308T080000
END:DAYLIGHT
BEGIN:STANDARD
TZOFFSETFROM:-0500
TZOFFSETTO:-0600
TZNAME:CST
DTSTART:20261101T070000
END:STANDARD
END:VTIMEZONE
BEGIN:VEVENT
DTSTART;TZID=America/Chicago:20251017T180000
DTEND;TZID=America/Chicago:20251017T200000
DTSTAMP:20260421T055026
CREATED:20250825T211955Z
LAST-MODIFIED:20250924T171208Z
UID:5417-1760724000-1760731200@featherglasswine.com
SUMMARY:Festival of Flavors: An International Autumn Table
DESCRIPTION:After the incredible success of our first 5-course wine pairing dinner\, we’re thrilled to announce Round Two – and this time\, we’re taking you on a global journey of autumn traditions! \nJoin us for an unforgettable evening as we celebrate fall festivals from around the world\, each course thoughtfully paired with wines/fall drinks that highlight the season’s rich flavors and cultural stories. \n Limited seats available – reserve early!\n\nDon’t miss your chance to savor this unique culinary experience. \nClub Member Price:  $95\n(Must be a member to receive club member pricing and must show a valid id at the door. If not a club member\, price difference will be charged at the door. Please use the same name to reserve as on the membership.) \nEarly Booking Ticket:  $105 (SOLD OUT) \nRegular: $120 (opens 09/13 until ticket closing\, 10/13) \nTickets at the door: $135 (depending on availability) \n  \nEvent Timing & Arrival Details: \n\nDinner will begin promptly at 6:00 PM\nGuests are kindly requested to arrive by 5:45 PM to allow time for check-in and to purchase any pre-dinner beverages.\nTo ensure a smooth and enjoyable experience for all attendees\, late arrivals after 6:15 PM will not be admitted. Please note that tickets and reserved seats will be forfeited in such cases.\n\nPlease Note: \nTo ensure the highest quality of your wine and dine experience: \n\nWine Pairings: All wine selections have been thoughtfully curated to complement each course. Substitutions will not be available.\nDietary Restrictions: While we strive to accommodate dietary needs\, menu modifications may be limited due to the nature of the event.\nAllergies: Please inform us of any severe allergies at the time of booking. Although we take precautions\, we cannot guarantee a completely allergen-free environment.\nAge Requirements: Guests Must be 21+ to enjoy the wine pairings. Valid ID required upon entry.\nAdditional Items Purchases: Additional wines\, bar drinks\, desserts and other dinner items may be purchased from the regular menu.\nRefund Policy: Full refund up to October 1st.  50% refund from 10/1st – 10/8th.  NO Refunds after 10/9th.
URL:https://featherglasswine.com/event/festival-of-flavors-an-international-autumn-table/
LOCATION:Feather Glass Wine Bar & Eatery\, 700 N Milwaukee Ave\, Suite 130\, Vernon Hills\, IL\, 60061\, United States
CATEGORIES:Dinners
ATTACH;FMTTYPE=image/jpeg:https://featherglasswine.com/wp-content/uploads/2025/08/Festival-of-Flavors.jpg
ORGANIZER;CN="Feather Glass":MAILTO:info@featherglasswine.com
END:VEVENT
END:VCALENDAR