BEGIN:VCALENDAR
VERSION:2.0
PRODID:-//Feather Glass Wine Bar - ECPv6.15.13//NONSGML v1.0//EN
CALSCALE:GREGORIAN
METHOD:PUBLISH
X-WR-CALNAME:Feather Glass Wine Bar
X-ORIGINAL-URL:https://featherglasswine.com
X-WR-CALDESC:Events for Feather Glass Wine Bar
REFRESH-INTERVAL;VALUE=DURATION:PT1H
X-Robots-Tag:noindex
X-PUBLISHED-TTL:PT1H
BEGIN:VTIMEZONE
TZID:America/Chicago
BEGIN:DAYLIGHT
TZOFFSETFROM:-0600
TZOFFSETTO:-0500
TZNAME:CDT
DTSTART:20250309T080000
END:DAYLIGHT
BEGIN:STANDARD
TZOFFSETFROM:-0500
TZOFFSETTO:-0600
TZNAME:CST
DTSTART:20251102T070000
END:STANDARD
BEGIN:DAYLIGHT
TZOFFSETFROM:-0600
TZOFFSETTO:-0500
TZNAME:CDT
DTSTART:20260308T080000
END:DAYLIGHT
BEGIN:STANDARD
TZOFFSETFROM:-0500
TZOFFSETTO:-0600
TZNAME:CST
DTSTART:20261101T070000
END:STANDARD
BEGIN:DAYLIGHT
TZOFFSETFROM:-0600
TZOFFSETTO:-0500
TZNAME:CDT
DTSTART:20270314T080000
END:DAYLIGHT
BEGIN:STANDARD
TZOFFSETFROM:-0500
TZOFFSETTO:-0600
TZNAME:CST
DTSTART:20271107T070000
END:STANDARD
END:VTIMEZONE
BEGIN:VEVENT
DTSTART;TZID=America/Chicago:20260313T180000
DTEND;TZID=America/Chicago:20260313T200000
DTSTAMP:20260421T054058
CREATED:20260113T111805Z
LAST-MODIFIED:20260204T212007Z
UID:5447-1773424800-1773432000@featherglasswine.com
SUMMARY:A Woman and Her Journey: Her Story Continues
DESCRIPTION:A Woman and Her Journey: Her Story Continues – SOLD OUT!\nAfter our first sold-out event\, we’re honored to bring A Woman and Her Journey back by popular demand\, continuing the celebration following International Women’s Day. \nThis inspiring evening is dedicated to celebrating the women in our lives and the extraordinary achievements of women\, past and present. Through powerful storytelling\, shared experiences\, and an open forum\, we will highlight the resilience\, leadership\, and impact of women who continue to shape our communities. \nGuests will hear from incredible local women speakers as they reflect on their journeys – professionally\, personally\, and beyond. The evening will conclude with an open forum designed to foster reflection\, encouragement\, and collective celebration. \nDoors will open at 5:30 PM for a special cocktail hour as a pre-event experience. Arrive early to enjoy Women in History themed cocktails and hors d’oeuvres\, and take a self guided walk through a curated gallery of historic women who have inspired the world today\, many of whom you may not have heard about. This immersive experience sets the tone for an evening rooted in legacy\, empowerment\, and recognition. \nWhile the heart of this event is celebration and community\, attendees will also enjoy natural opportunities for connection\, networking\, and professional growth in a welcoming and supportive space. \nYour ticket includes a drink and an appetizer\, with additional drinks and dinner available for purchase throughout the evening. \nEvent Details\n Friday\, March 13\n Doors Open: 5:30 PM | Event: 6:00 PM – 8:00 PM \nTickets – SOLD OUT \n\n$15 Early RSVP (click here to complete online RSVP form)\n$20 at the door\n Tickets will be required for entry.\nThis is a paid event due to the high volume of interest.\n\nAbout the Series\nA Woman and Her Journey began two years ago as a way to uplift and celebrate women’s stories. After the success of our 2023 event\, we’re proud to bring it back – creating space to honor both the women who paved the way and those leading change today. \nCome celebrate the women who inspire you.\nCome honor their stories.\nCome be part of the journey.
URL:https://featherglasswine.com/event/a-woman-and-her-journey-her-story-continues/
LOCATION:Feather Glass Wine Bar & Eatery\, 700 N Milwaukee Ave\, Suite 130\, Vernon Hills\, IL\, 60061\, United States
CATEGORIES:Dinners
ATTACH;FMTTYPE=image/jpeg:https://featherglasswine.com/wp-content/uploads/2026/01/Feather-glass-Pairing-Dinner-2026-1.jpg
ORGANIZER;CN="Feather Glass":MAILTO:info@featherglasswine.com
END:VEVENT
END:VCALENDAR